BEGIN:VCALENDAR
VERSION:2.0
PRODID:-//Montgomery Up - ECPv6.15.20//NONSGML v1.0//EN
CALSCALE:GREGORIAN
METHOD:PUBLISH
X-ORIGINAL-URL:https://montgomeryup.com
X-WR-CALDESC:Events for Montgomery Up
REFRESH-INTERVAL;VALUE=DURATION:PT1H
X-Robots-Tag:noindex
X-PUBLISHED-TTL:PT1H
BEGIN:VTIMEZONE
TZID:America/Chicago
BEGIN:DAYLIGHT
TZOFFSETFROM:-0600
TZOFFSETTO:-0500
TZNAME:CDT
DTSTART:20250309T080000
END:DAYLIGHT
BEGIN:STANDARD
TZOFFSETFROM:-0500
TZOFFSETTO:-0600
TZNAME:CST
DTSTART:20251102T070000
END:STANDARD
BEGIN:DAYLIGHT
TZOFFSETFROM:-0600
TZOFFSETTO:-0500
TZNAME:CDT
DTSTART:20260308T080000
END:DAYLIGHT
BEGIN:STANDARD
TZOFFSETFROM:-0500
TZOFFSETTO:-0600
TZNAME:CST
DTSTART:20261101T070000
END:STANDARD
BEGIN:DAYLIGHT
TZOFFSETFROM:-0600
TZOFFSETTO:-0500
TZNAME:CDT
DTSTART:20270314T080000
END:DAYLIGHT
BEGIN:STANDARD
TZOFFSETFROM:-0500
TZOFFSETTO:-0600
TZNAME:CST
DTSTART:20271107T070000
END:STANDARD
END:VTIMEZONE
BEGIN:VEVENT
DTSTART;TZID=America/Chicago:20260424T140000
DTEND;TZID=America/Chicago:20260424T140000
DTSTAMP:20260423T211642
CREATED:20260406T204801Z
LAST-MODIFIED:20260406T204801Z
UID:10000037-1777039200-1777039200@montgomeryup.com
SUMMARY:WALK WITH A DOC
DESCRIPTION:  \nWalking on the 4th Friday of every month at 2:00 PM beginning March 28\, 2025. \nWalk Location:\nMontgomery Whitewater \n1100 Maxwell Blvd\, Montgomery\, AL 36104 \n\n\n	Related
URL:https://montgomeryup.com/event/walk-with-a-doc/
LOCATION:Montgomery Whitewater\, 1100 Maxwell Blvd\, Montgomery\, AL\, 36104\, United States
END:VEVENT
BEGIN:VEVENT
DTSTART;TZID=America/Chicago:20260424T140000
DTEND;TZID=America/Chicago:20260424T140000
DTSTAMP:20260423T211642
CREATED:20260421T202653Z
LAST-MODIFIED:20260421T202653Z
UID:10000039-1777039200-1777039200@montgomeryup.com
SUMMARY:April Walk With a Doc
DESCRIPTION:The effects of exercise on hypertension and diabetes\n\nMontgomery Whitewater\n1100 Maxwell Blvd\, Montgomery\, AL 36111\nFriday\, April 24\, 2:00PM\n\n\n	Related
URL:https://montgomeryup.com/event/april-walk-with-a-doc/
LOCATION:Montgomery Whitewater\, 1100 Maxwell Blvd\, Montgomery\, AL\, 36104\, United States
END:VEVENT
END:VCALENDAR