BEGIN:VCALENDAR
VERSION:2.0
PRODID:-//Montgomery Up - ECPv6.15.20//NONSGML v1.0//EN
CALSCALE:GREGORIAN
METHOD:PUBLISH
X-ORIGINAL-URL:https://montgomeryup.com
X-WR-CALDESC:Events for Montgomery Up
REFRESH-INTERVAL;VALUE=DURATION:PT1H
X-Robots-Tag:noindex
X-PUBLISHED-TTL:PT1H
BEGIN:VTIMEZONE
TZID:America/Chicago
BEGIN:DAYLIGHT
TZOFFSETFROM:-0600
TZOFFSETTO:-0500
TZNAME:CDT
DTSTART:20250309T080000
END:DAYLIGHT
BEGIN:STANDARD
TZOFFSETFROM:-0500
TZOFFSETTO:-0600
TZNAME:CST
DTSTART:20251102T070000
END:STANDARD
BEGIN:DAYLIGHT
TZOFFSETFROM:-0600
TZOFFSETTO:-0500
TZNAME:CDT
DTSTART:20260308T080000
END:DAYLIGHT
BEGIN:STANDARD
TZOFFSETFROM:-0500
TZOFFSETTO:-0600
TZNAME:CST
DTSTART:20261101T070000
END:STANDARD
BEGIN:DAYLIGHT
TZOFFSETFROM:-0600
TZOFFSETTO:-0500
TZNAME:CDT
DTSTART:20270314T080000
END:DAYLIGHT
BEGIN:STANDARD
TZOFFSETFROM:-0500
TZOFFSETTO:-0600
TZNAME:CST
DTSTART:20271107T070000
END:STANDARD
END:VTIMEZONE
BEGIN:VEVENT
DTSTART;TZID=America/Chicago:20260530T180000
DTEND;TZID=America/Chicago:20260530T180000
DTSTAMP:20260424T024124
CREATED:20260403T141739Z
LAST-MODIFIED:20260403T141739Z
UID:10000032-1780164000-1780164000@montgomeryup.com
SUMMARY:Auntee Pam's Family Affair: The Stage Play
DESCRIPTION:  \n\n\nGet ready for laughs and family drama at Auntee Pam’s Family Affair – a must-see stage play live! \n\n\n\n\nDon’t Miss Auntee Pam’s Family Affair: The Stage Play!\nGet ready for a night filled with laughs\, heartfelt moments\, and family drama brought to life live on stage. This in-person event promises an unforgettable experience with a cast that’ll have you hooked from start to finish. Gather your loved ones and come enjoy Auntee Pam’s Family Affair like never before!
URL:https://montgomeryup.com/event/auntee-pams-family-affair-the-stage-play/
LOCATION:The Davis Theater of Performing Arts\, 251 Montgomery Street\, Montgomery\, Alabama\, 36104\, United States
END:VEVENT
END:VCALENDAR