BEGIN:VCALENDAR
VERSION:2.0
PRODID:-//Montgomery Up - ECPv6.15.20//NONSGML v1.0//EN
CALSCALE:GREGORIAN
METHOD:PUBLISH
X-WR-CALNAME:Montgomery Up
X-ORIGINAL-URL:https://montgomeryup.com
X-WR-CALDESC:Events for Montgomery Up
REFRESH-INTERVAL;VALUE=DURATION:PT1H
X-Robots-Tag:noindex
X-PUBLISHED-TTL:PT1H
BEGIN:VTIMEZONE
TZID:America/Chicago
BEGIN:DAYLIGHT
TZOFFSETFROM:-0600
TZOFFSETTO:-0500
TZNAME:CDT
DTSTART:20250309T080000
END:DAYLIGHT
BEGIN:STANDARD
TZOFFSETFROM:-0500
TZOFFSETTO:-0600
TZNAME:CST
DTSTART:20251102T070000
END:STANDARD
BEGIN:DAYLIGHT
TZOFFSETFROM:-0600
TZOFFSETTO:-0500
TZNAME:CDT
DTSTART:20260308T080000
END:DAYLIGHT
BEGIN:STANDARD
TZOFFSETFROM:-0500
TZOFFSETTO:-0600
TZNAME:CST
DTSTART:20261101T070000
END:STANDARD
BEGIN:DAYLIGHT
TZOFFSETFROM:-0600
TZOFFSETTO:-0500
TZNAME:CDT
DTSTART:20270314T080000
END:DAYLIGHT
BEGIN:STANDARD
TZOFFSETFROM:-0500
TZOFFSETTO:-0600
TZNAME:CST
DTSTART:20271107T070000
END:STANDARD
END:VTIMEZONE
BEGIN:VEVENT
DTSTART;TZID=America/Chicago:20260413T080000
DTEND;TZID=America/Chicago:20260413T080000
DTSTAMP:20260424T010425
CREATED:20260403T032310Z
LAST-MODIFIED:20260403T032310Z
UID:10000017-1776067200-1776067200@montgomeryup.com
SUMMARY:2026 Alabama Computer Science Summit
DESCRIPTION:  \n\n\nGovernor Kay Ivey\, ALSDE\, and the Governor’s Computer Science Advisory Council are hosting the 2026 Alabama Computer Science Summit. \n\n\n\n\nDuring this event you will learn more about the progress and future of computer science in Alabama. You will hear from CS education professionals\, a keynote\, presentations from student finalists in the Governor’s App Challenge\, and attend breakout sessions to learn more about CS topics that interest you. You will have the opportunity to network with others who understand the importance of computer science education.
URL:https://montgomeryup.com/event/2026-alabama-computer-science-summit/
LOCATION:AL
END:VEVENT
BEGIN:VEVENT
DTSTART;TZID=America/Chicago:20260414T100000
DTEND;TZID=America/Chicago:20260414T160000
DTSTAMP:20260424T010425
CREATED:20260403T033532Z
LAST-MODIFIED:20260403T033532Z
UID:10000023-1776160800-1776182400@montgomeryup.com
SUMMARY:Montgomery\, Al\,Non Invasive Body Sculpting Training| School of Glamology
DESCRIPTION:  \n\n\nThis course will teach you how to generate a six figure income\, implementing 6 non invasive body sculpting and skin tightening techniques. \n\n\n\n\n\n\n\n\n\nThe School of Glamology is an industry leader in providing quality\, affordable training in advanced beauty techniques. Not only have we been in business for now 9 years\, but we are nationally recognized for training all across the United States of America. We offer small\, affordable\, and personalized classes to ensure you get attention and knowledge you paid for. You will be certified by master trainers who are the best in the industry and highly qualified. Not only will you learn the techniques but you’ll also get a chance to ask questions\, receive hands on training and gain knowledge from a licensed school that only employs current\, licensed beauty professionals. We focus on not only producing results\, but also how to market your skills and build your business. We want to ensure the success of each student AFTER you leave our classroom. This is your first step to becoming a Beauty Boss! \nThis class is a 100% hands on event!\n☆.。.:*・°☆.。.:*・°☆.。.:*・°☆.。.:*・°☆\nWhat is body sculpting?\nBody sculpting is where you are using advanced technology to destroy fats cells to eliminate them from your body. Using machine technology creates a safe\, noninvasive way to sculpt the body. By the end of your training you will be able to assist your clients in tackling trouble spots to give them the toned\, sculpted body the’ve always wanted without going under the knife. Your clients will notice results right after the first session. With multiple sessions\, they will achieve the body goals they’ve always wanted. These technique are safer and more cost efficient than having surgery. This course will cover 6 methods for removing fat and tightening the skin which includes: Body Radio Frequency☆Tri-Polar Radio Frequency ☆ 40 K Cavitation ☆ Laser Lipolysis ☆ Heat Therapy ☆ Bi-Polar Radio FrequencySuction. \nWhat Else Is Included You Ask? Check out the value and savings…\n\nTheory (Skin Anatomy\, Safety & Sanitation\, Consultation\, Machine Science and much more)\n6 in 1 Body Sculpting Machine (Take Home With You)\n\n\nTheory (Skin Anatomy\, Safety & Sanitation\, Consultation\, Machine Science and much more)\nManuals\nConsultation Forms\n1 Month Supply Ultrasonic Gel\nLive Models\nBusiness Formation & Marketing Strategy\nCertificate of Completion\n1 Year Support After Class\n1 Free Refresher Training\n\n◣TUITION $2\,500 ◢ SAVE $2\,000 ◣\nIn order to register you must secure a $500 Deposit that will be deducted from your tuition. If you’d like to avoid fees that will occur on this site then call 619.928.4526. You will pay the remaining balance of $2\,000 in class\, IN CASH!! We will not accept any other form of payment other than cash on the day of your training. You do not need a license to take this class but it is your responsibility to check your state for regulations. Please check us out online www.schoolofglamology.com or call 619.928.4526 if you’d like to schedule a 1 on 1 Training session for an additional $500. \nWhy Choose Us?\n\nWe are a licensed esthetics school which will ensure you are receiving education at its highest standard. Many people are offering courses but in order to do so\, you must be a LICENSED SCHOOL with LICENSED INSTRUCTORS. If anyone training you anything can not provide you with this RUN!!\nSmall class sizes are enforced to ensure students get the attention they need.\nAll of our instructions teach with LOVE\, which makes all the difference in the learning experience.\nAll instructors have their own business’s so that real life experience is relayed to our students.\nWe have been in business for 9 years\, with the reviews to prove it! Please check out our 4.9 star rating on google.\n\nWhy Should You Take This Class?\n\nAre you looking to be your own boss?\nAre you tired of going to a job that doesn’t pay you what you’re worth?\nAre you always checking your account before you make a purchase?\nAre you ready to be in control of your finances?\nAre you ready to build something for yourself?\nAre you in need of stability?\nAre your ready quit your job?\nWOULD YOU LIKE TO MAKE $250-800 PER HOUR?\n\nIf you answered “YES” to at least 6 of these questions\, then stop procrastinating\, and let’s get this done. Your opportunity is now. Invest in yourself and if you implement things we tell you do in this class you will not lose! \nREGISTER NOW!!! SEATS ARE VERY LIMITED! \nDisclaimer: We are an esthetics school that offers licensure in the state of Georgia. You do not need a license to take this class but understand that this class is for a certification for the techniques listed above ONLY and not for an esthetics license. If you’d like to consider obtaining you esthetics license\, go to www.schoolofglamology.com/esthetics for more information. \n\n\n  \n 
URL:https://montgomeryup.com/event/montgomery-alnon-invasive-body-sculpting-training-school-of-glamology/
LOCATION:AL
END:VEVENT
BEGIN:VEVENT
DTSTART;TZID=America/Chicago:20260417T190000
DTEND;TZID=America/Chicago:20260417T190000
DTSTAMP:20260424T010425
CREATED:20260403T034527Z
LAST-MODIFIED:20260403T034527Z
UID:10000028-1776452400-1776452400@montgomeryup.com
SUMMARY:Sip & Paint: A Spring Floral Wreath Watercolor Workshop
DESCRIPTION:  \n\n\nA relaxed beginner watercolor workshop where you’ll learn simple techniques and create your own painting—no experience needed \n\n\n\n\nJoin us for a relaxed beginner watercolor workshop where we’ll explore the foundations of painting with watercolor in a soft\, creative setting. Together we’ll cover the basics of color theory\, practice essential brush strokes\, and learn how to build a balanced floral wreath composition. With step-by-step guidance\, you’ll create your own delicate floral wreath painting while gaining confidence with watercolor techniques. No experience is required—just come ready to slow down\, create\, and enjoy the process. \nWhat’s Included: \nOne complimentary drink is included with your ticket\, with additional drinks available for purchase. All watercolor supplies will be provided. \nWhat to Bring: \nJust bring yourself—and a friend if you’d like! Everything you need for the class will be ready for you. \nWho This Class Is For: \nPerfect for beginners or anyone curious about learning watercolor. No prior experience is needed.
URL:https://montgomeryup.com/event/sip-paint-a-spring-floral-wreath-watercolor-workshop/
LOCATION:AL
END:VEVENT
BEGIN:VEVENT
DTSTART;TZID=America/Chicago:20260418T100000
DTEND;TZID=America/Chicago:20260418T140000
DTSTAMP:20260424T010425
CREATED:20260402T215448Z
LAST-MODIFIED:20260402T215448Z
UID:10000006-1776506400-1776520800@montgomeryup.com
SUMMARY:Community Day at the Chisholm Community Center!
DESCRIPTION:
URL:https://montgomeryup.com/event/community-day-at-the-chisholm-community-center/
LOCATION:Chisholm Community Center\, 545 E Vandiver Blvd.\, Montgomery\, AL\, 36110\, United States
END:VEVENT
BEGIN:VEVENT
DTSTART;TZID=America/Chicago:20260418T170000
DTEND;TZID=America/Chicago:20260418T170000
DTSTAMP:20260424T010425
CREATED:20260402T220329Z
LAST-MODIFIED:20260402T220329Z
UID:10000010-1776531600-1776531600@montgomeryup.com
SUMMARY:90 Degrees Linen & Lawn: Doors Open 6 PM - Entertainment begins at 7 PM
DESCRIPTION:  \nAn elevated spring celebration by the river with live music\, warm-weather elegance\, and a milestone night honoring 90 years strong.
URL:https://montgomeryup.com/event/90-degrees-linen-lawn-doors-open-6-pm-entertainment-begins-at-7-pm/
LOCATION:Riverfront Park\, 355 Commerce St\, Montgomery\, AL\, United States
END:VEVENT
BEGIN:VEVENT
DTSTART;TZID=America/Chicago:20260418T200000
DTEND;TZID=America/Chicago:20260418T200000
DTSTAMP:20260424T010425
CREATED:20260403T034650Z
LAST-MODIFIED:20260403T034650Z
UID:10000029-1776542400-1776542400@montgomeryup.com
SUMMARY:Justin Stagner Aka Southern Grandpa comes back to Jerry's Juke Joint
DESCRIPTION:  \n\n\nAlabama comic Justin Stagner brings his viral “Southern Grandpa” to life with raw storytelling and rowdy\, unfiltered Southern humor. \n\n\n\n\nJustin Stagner: Southern Wit & Unfiltered Truth\nHailing from the heart of Alabama\, Justin Stagner has rapidly transitioned from a shift worker at a steel mill to a “Southern comedy powerhouse.” Known to millions as the “Southern Grandpa\,” Stagner’s show is a celebration of deep-South roots\, delivered with a genuine\, folksy charm that feels like a conversation on a front porch—only much louder and significantly funnier. \nThe Performance\nStagner’s live set brings his viral digital characters to life\, blending high-energy sketch-style energy with traditional stand-up. Having honed his comedic timing by entertaining coworkers at the mill\, he now brings that same raw\, relatable humor to comedy clubs across the country. \nShow Highlights\n\nThe “Southern Grandpa”: Expertly crafted impressions and “Grandpa-isms” that capture the absurd wisdom and grit of Southern elders.\nBlue-Collar Roots: Hilarious stories from his days working day and night shifts at the steel mill and the leap of faith into full-time comedy.\nDomestic Comedy: Relatable observations on marriage and family life\, often inspired by his wife\, Courtnee\, and their shared experiences navigating his sudden “rocket ship” to fame.\nRegional Quirks: From the nuances of “deep fried” accents to hunting alligators and the undeniable superiority of deer meat.\n\nWhy It Hits\nJustin’s appeal lies in his authenticity. He leans into his Alabama heritage without apology\, using his knack for mimicking voices and capturing the essence of Southern life to create a show that is both a tribute to and a parody of the world he knows best. It’s “country boy wisdom” meets viral-ready wit.
URL:https://montgomeryup.com/event/justin-stagner-aka-southern-grandpa-comes-back-to-jerrys-juke-joint/
LOCATION:AL
END:VEVENT
END:VCALENDAR