BEGIN:VCALENDAR
VERSION:2.0
PRODID:-//Montgomery Up - ECPv6.15.20//NONSGML v1.0//EN
CALSCALE:GREGORIAN
METHOD:PUBLISH
X-ORIGINAL-URL:https://montgomeryup.com
X-WR-CALDESC:Events for Montgomery Up
REFRESH-INTERVAL;VALUE=DURATION:PT1H
X-Robots-Tag:noindex
X-PUBLISHED-TTL:PT1H
BEGIN:VTIMEZONE
TZID:America/Chicago
BEGIN:DAYLIGHT
TZOFFSETFROM:-0600
TZOFFSETTO:-0500
TZNAME:CDT
DTSTART:20250309T080000
END:DAYLIGHT
BEGIN:STANDARD
TZOFFSETFROM:-0500
TZOFFSETTO:-0600
TZNAME:CST
DTSTART:20251102T070000
END:STANDARD
BEGIN:DAYLIGHT
TZOFFSETFROM:-0600
TZOFFSETTO:-0500
TZNAME:CDT
DTSTART:20260308T080000
END:DAYLIGHT
BEGIN:STANDARD
TZOFFSETFROM:-0500
TZOFFSETTO:-0600
TZNAME:CST
DTSTART:20261101T070000
END:STANDARD
BEGIN:DAYLIGHT
TZOFFSETFROM:-0600
TZOFFSETTO:-0500
TZNAME:CDT
DTSTART:20270314T080000
END:DAYLIGHT
BEGIN:STANDARD
TZOFFSETFROM:-0500
TZOFFSETTO:-0600
TZNAME:CST
DTSTART:20271107T070000
END:STANDARD
END:VTIMEZONE
BEGIN:VEVENT
DTSTART;VALUE=DATE:20260613
DTEND;VALUE=DATE:20260618
DTSTAMP:20260424T084305
CREATED:20260403T142719Z
LAST-MODIFIED:20260403T142719Z
UID:10000036-1781308800-1781740799@montgomeryup.com
SUMMARY:The Legacy Golf Championship 2026
DESCRIPTION:  \nThe Legacy Golf Championship 2026\n  \nThe Legacy Golf Championship is a premier golf tournament featuring a diverse group of junior and collegiate golfers from across the country. The 5-day event (June 13-17\, 2026) will begin with a qualifying round and end with a 54-hole stroke play golf championship. Lagoon Park\, which was named one of the Top 100 courses in Alabama by Golf Digest\, offers players tree-lined fairways and a serene atmosphere. Our goal is to provide a venue that creates invaluable opportunities for junior golfers to showcase their skills and network with the college coaches that will be in attendance. This event will also provide an avenue for collegiate players to gain World Amateur Golf Rankings. The uniqueness of the LGC will stem from the extra activities incorporated into the daily schedule\, providing an opportunity for the players and their families to learn about Montgomery’s rich history as the “Birthplace of the Civil Rights Movement.” Participants will also be given access to activities\, local museums and the Montgomery Whitewater\, enriching their experience both on and off the course.
URL:https://montgomeryup.com/event/the-legacy-golf-championship-2026/
LOCATION:Lagoon Park\, 2855 Lagoon Park Drive\, Montgomery\, AL\, 36109\, United States
END:VEVENT
BEGIN:VEVENT
DTSTART;VALUE=DATE:20260724
DTEND;VALUE=DATE:20260726
DTSTAMP:20260424T084305
CREATED:20260402T220154Z
LAST-MODIFIED:20260402T220154Z
UID:10000009-1784851200-1785023999@montgomeryup.com
SUMMARY:Leanne Morgan
DESCRIPTION:
URL:https://montgomeryup.com/event/leanne-morgan/
LOCATION:Montgomery Performing Arts Centre\, 201 Tallapoosa St\, Montgomery\, AL\, 36104\, United States
END:VEVENT
END:VCALENDAR