BEGIN:VCALENDAR
VERSION:2.0
PRODID:-//Montgomery Up - ECPv6.15.20//NONSGML v1.0//EN
CALSCALE:GREGORIAN
METHOD:PUBLISH
X-WR-CALNAME:Montgomery Up
X-ORIGINAL-URL:https://montgomeryup.com
X-WR-CALDESC:Events for Montgomery Up
REFRESH-INTERVAL;VALUE=DURATION:PT1H
X-Robots-Tag:noindex
X-PUBLISHED-TTL:PT1H
BEGIN:VTIMEZONE
TZID:America/Chicago
BEGIN:DAYLIGHT
TZOFFSETFROM:-0600
TZOFFSETTO:-0500
TZNAME:CDT
DTSTART:20250309T080000
END:DAYLIGHT
BEGIN:STANDARD
TZOFFSETFROM:-0500
TZOFFSETTO:-0600
TZNAME:CST
DTSTART:20251102T070000
END:STANDARD
BEGIN:DAYLIGHT
TZOFFSETFROM:-0600
TZOFFSETTO:-0500
TZNAME:CDT
DTSTART:20260308T080000
END:DAYLIGHT
BEGIN:STANDARD
TZOFFSETFROM:-0500
TZOFFSETTO:-0600
TZNAME:CST
DTSTART:20261101T070000
END:STANDARD
BEGIN:DAYLIGHT
TZOFFSETFROM:-0600
TZOFFSETTO:-0500
TZNAME:CDT
DTSTART:20270314T080000
END:DAYLIGHT
BEGIN:STANDARD
TZOFFSETFROM:-0500
TZOFFSETTO:-0600
TZNAME:CST
DTSTART:20271107T070000
END:STANDARD
END:VTIMEZONE
BEGIN:VEVENT
DTSTART;TZID=America/Chicago:20260430T190000
DTEND;TZID=America/Chicago:20260510T220000
DTSTAMP:20260423T222539
CREATED:20260403T141607Z
LAST-MODIFIED:20260403T141607Z
UID:10000031-1777575600-1778450400@montgomeryup.com
SUMMARY:Perfect Arrangement
DESCRIPTION:  \n\n\nA thought-provoking\, laugh out loud comedy inspired by the true story of the earliest stirrings of the American gay rights movement. \n\n\n\n\nIt’s 1950\, and new colors are being added to the Red Scare. Two U.S. State Department employees\, Bob and Norma\, have been tasked with identifying sexual deviants within their ranks. There’s just one problem: Both Bob and Norma are gay\, and have married each other’s partners as a carefully constructed cover. Inspired by the true story of the earliest stirrings of the American gay rights movement\, madcap classic sitcom-style laughs give way to provocative drama as two “All-American” couples are forced to stare down the closet door. \n“[A] clever canapé of a comedy… Mr. Payne is a deft and witty writer.” – The New York Times \n“The best thing about Topher Payne’s fabulous Perfect Arrangement is its pitch-perfect capture of the 1950s comic voice\, and its application to the dreadfully serious drama.” – DC Theatre Scene \n“Usually a playwright has to choose between writing a laugh-out-loud comedy and a very serious drama. Topher Payne has written both with Perfect Arrangment.” – TheaterMania
URL:https://montgomeryup.com/event/perfect-arrangement/
LOCATION:Cloverdale Playhouse\, 960 Cloverdale Rd\, Montgomery\, 36106\, United States
END:VEVENT
BEGIN:VEVENT
DTSTART;TZID=America/Chicago:20260501T180000
DTEND;TZID=America/Chicago:20260501T220000
DTSTAMP:20260423T222539
CREATED:20260402T215906Z
LAST-MODIFIED:20260402T215906Z
UID:10000008-1777658400-1777672800@montgomeryup.com
SUMMARY:Riverbend Bourbon and Brews
DESCRIPTION:  \n\n\nKick back with some smooth bourbon and cold brews for a chill night of good music and great drinks. \n\n\n\n\nRiverbend Bourbon & Brews \nCome enjoy a great night of drinks\, food\, music\, and fun in downtown Montgomery.\nJoin us for the City of Montgomery’s newly expanded Riverbend Bourbon & Brews on Friday\, May 1\, 2026\, from 6:00 p.m. to 10:00 p.m. at the Riverfront Park. \nThis year’s event takes the Riverbend Bourbon & Brews to the next level with returning beer distributors\, new breweries\, a bourbon experience featuring Jim Beam and Alabama-based distilleries\, plus a cigar lounge\, mechanical bull\, yard games\, food trucks\, and live music. \nTickets: $40 per person\nDiscounts available for Military and League of Municipalities attendees. \n\n$10 Military Discount (must show military ID at the door) Discount Code: Military2026\n$5 League of Municipalities Attendees Discount (must show registration at the door) Discount Code: League2026\nDesignated Drivers get in for free so please be safe and don’t drink and drive\, bring a friend and buy them dinner at one of our many on-site food trucks.
URL:https://montgomeryup.com/event/riverbend-bourbon-and-brews/
LOCATION:Riverfront Park\, 355 Commerce St\, Montgomery\, AL\, United States
END:VEVENT
END:VCALENDAR