BEGIN:VCALENDAR
VERSION:2.0
PRODID:-//Montgomery Up - ECPv6.15.20//NONSGML v1.0//EN
CALSCALE:GREGORIAN
METHOD:PUBLISH
X-ORIGINAL-URL:https://montgomeryup.com
X-WR-CALDESC:Events for Montgomery Up
REFRESH-INTERVAL;VALUE=DURATION:PT1H
X-Robots-Tag:noindex
X-PUBLISHED-TTL:PT1H
BEGIN:VTIMEZONE
TZID:America/Chicago
BEGIN:DAYLIGHT
TZOFFSETFROM:-0600
TZOFFSETTO:-0500
TZNAME:CDT
DTSTART:20250309T080000
END:DAYLIGHT
BEGIN:STANDARD
TZOFFSETFROM:-0500
TZOFFSETTO:-0600
TZNAME:CST
DTSTART:20251102T070000
END:STANDARD
BEGIN:DAYLIGHT
TZOFFSETFROM:-0600
TZOFFSETTO:-0500
TZNAME:CDT
DTSTART:20260308T080000
END:DAYLIGHT
BEGIN:STANDARD
TZOFFSETFROM:-0500
TZOFFSETTO:-0600
TZNAME:CST
DTSTART:20261101T070000
END:STANDARD
BEGIN:DAYLIGHT
TZOFFSETFROM:-0600
TZOFFSETTO:-0500
TZNAME:CDT
DTSTART:20270314T080000
END:DAYLIGHT
BEGIN:STANDARD
TZOFFSETFROM:-0500
TZOFFSETTO:-0600
TZNAME:CST
DTSTART:20271107T070000
END:STANDARD
END:VTIMEZONE
BEGIN:VEVENT
DTSTART;TZID=America/Chicago:20260411T100000
DTEND;TZID=America/Chicago:20260411T140000
DTSTAMP:20260423T235803
CREATED:20260403T030856Z
LAST-MODIFIED:20260403T030856Z
UID:10000013-1775901600-1775916000@montgomeryup.com
SUMMARY:FLIMP Festival
DESCRIPTION:
URL:https://montgomeryup.com/event/flimp-festival/
LOCATION:Montgomery Museum of Fine Arts\, 1 Museum Drive\, Montgomery\, AL\, 36117\, United States
END:VEVENT
BEGIN:VEVENT
DTSTART;TZID=America/Chicago:20260411T110000
DTEND;TZID=America/Chicago:20260411T110000
DTSTAMP:20260423T235803
CREATED:20260403T142238Z
LAST-MODIFIED:20260403T142238Z
UID:10000034-1775905200-1775905200@montgomeryup.com
SUMMARY:2026 Southern Belle Tea - I Am Proof!
DESCRIPTION:  \n\n\nTenth Anniversary Southern Belle Tea “I Am Proof!” \n\n\n\n\nLadies…The Tenth Anniversary Southern Belle Tea “I Am Proof!”. \nTransformation is not only possible\, but inevitable when we embrace our journey\, own our stories\, and refuse to shrink. Stand boldly in your truth\, unapologetically raw and powerful. Your unique energy\, your struggles\, and your triumphs make you a force of nature. To Every Woman you are enough\, you are a masterpiece in the making\, constantly evolving and growing. Whatever you are facing know that you are stronger\, braver\, and more capable than you know. Come join us as we celebrate and empower one another Big Southern Belle Tea style with your Big Hats and Pearls! The voice of a generation Angela Cobb Ellison and Band will be performing live. Don’t miss this powerful gathering and delicious brunch. Access has been granted\, “I Am Proof!” \nLadies ONLY…ages 10 and older. \nTickets \n$45 in advance \n$50 day of event
URL:https://montgomeryup.com/event/2026-southern-belle-tea-i-am-proof/
LOCATION:RSA Activity Center\, 201 Dexter Avenue\, Montgomery\, 36104\, United States
END:VEVENT
BEGIN:VEVENT
DTSTART;TZID=America/Chicago:20260411T140000
DTEND;TZID=America/Chicago:20260411T140000
DTSTAMP:20260423T235803
CREATED:20260403T034244Z
LAST-MODIFIED:20260403T034244Z
UID:10000027-1775916000-1775916000@montgomeryup.com
SUMMARY:Sensory Art Workshop
DESCRIPTION:  \n\n\nHands-on art!This is a multisensory engaging art experience tailored for children with ASD who enjoy engaging in artwork. \n\n\n\n\nWelcome to the Sensory Art Workshop Experience! \nThis event was created specifically for chidlren with ASD as a mulitsensory outlet that sparks creativity and social engagment. \nWe will be creating a Puffy Paint Octopus! \nThe Octopus foam outlines will be precut and set for each participant in various colors for them to choose from\, so that they can focus on mixing and applying their puffy paint. \nNeed To Know \n\nChild must have chaperone\nOnly one adult chaperone per child per ticket\nChaperones may sit in the parents lounge area\nWe will be using school glue\, tacky glue\, bubble wrap\, foam sheets and shaving cream. If your child has any allergies to these they will not be able to attend.\n\nYou may arrive 15 minutes early to check in and give your child a few extra minutes to get acclimated to the space. \nChaperones may stand and engage with artwork or watch from parent lounge area. Our “art buddies” will be there to assist and answer any questions that you may have about the project. Everyone must take home their creations at the end of the event. \nIf a behavioral occurrence happens in which the child needs to be removed from the art area\, a small calm down area will be available.
URL:https://montgomeryup.com/event/sensory-art-workshop/
LOCATION:AL
END:VEVENT
BEGIN:VEVENT
DTSTART;TZID=America/Chicago:20260411T150000
DTEND;TZID=America/Chicago:20260411T190000
DTSTAMP:20260423T235803
CREATED:20260403T032016Z
LAST-MODIFIED:20260403T032016Z
UID:10000015-1775919600-1775934000@montgomeryup.com
SUMMARY:Hampstead Taste & Tour
DESCRIPTION:Explore personal home tours and appetizers throughout Hampstead on this fun walking tour! \n\n\n\n\nHampstead Taste & Tour: benefitting the Montessori School at Hampstead.\nJoin us for an awesome in-person adventure through several personal homes of Hampstead Residents. Tour a variety of house plans and interior design styles\, while sampling creative menus and libations at each home. The evening will conclude with door prize giveaways at the new event space at City Grill. Don’t miss out on this fun-filled day exploring Hampstead like never before. Check in at Montessori for welcome package and maps of tour stops.
URL:https://montgomeryup.com/event/hampstead-taste-tour/
LOCATION:AL
END:VEVENT
BEGIN:VEVENT
DTSTART;TZID=America/Chicago:20260411T180000
DTEND;TZID=America/Chicago:20260411T180000
DTSTAMP:20260423T235803
CREATED:20260403T032150Z
LAST-MODIFIED:20260403T032150Z
UID:10000016-1775930400-1775930400@montgomeryup.com
SUMMARY:Daddy Daughter Dance: Denim & Diamonds
DESCRIPTION:Grab your jeans and sparkles for a fun night of dancing and memories with your favorite girl! \n\n\n\n\n✨ Daddy Daughter Dance: Denim & Diamonds ✨\nGet ready for a fun night out at 1751 Cong W L Dickinson Dr! Join us on April 11\, 2026 at 6:00 PM! for an unforgettable evening filled with dancing\, laughter\, and special moments between dads and daughters. Dress up in your best denim and diamonds and make memories that’ll sparkle forever. Can’t wait to see you there! \n\n\n 
URL:https://montgomeryup.com/event/daddy-daughter-dance-denim-diamonds/
LOCATION:AL
END:VEVENT
END:VCALENDAR