BEGIN:VCALENDAR
VERSION:2.0
PRODID:-//Montgomery Up - ECPv6.15.20//NONSGML v1.0//EN
CALSCALE:GREGORIAN
METHOD:PUBLISH
X-WR-CALNAME:Montgomery Up
X-ORIGINAL-URL:https://montgomeryup.com
X-WR-CALDESC:Events for Montgomery Up
REFRESH-INTERVAL;VALUE=DURATION:PT1H
X-Robots-Tag:noindex
X-PUBLISHED-TTL:PT1H
BEGIN:VTIMEZONE
TZID:America/Chicago
BEGIN:DAYLIGHT
TZOFFSETFROM:-0600
TZOFFSETTO:-0500
TZNAME:CDT
DTSTART:20250309T080000
END:DAYLIGHT
BEGIN:STANDARD
TZOFFSETFROM:-0500
TZOFFSETTO:-0600
TZNAME:CST
DTSTART:20251102T070000
END:STANDARD
BEGIN:DAYLIGHT
TZOFFSETFROM:-0600
TZOFFSETTO:-0500
TZNAME:CDT
DTSTART:20260308T080000
END:DAYLIGHT
BEGIN:STANDARD
TZOFFSETFROM:-0500
TZOFFSETTO:-0600
TZNAME:CST
DTSTART:20261101T070000
END:STANDARD
BEGIN:DAYLIGHT
TZOFFSETFROM:-0600
TZOFFSETTO:-0500
TZNAME:CDT
DTSTART:20270314T080000
END:DAYLIGHT
BEGIN:STANDARD
TZOFFSETFROM:-0500
TZOFFSETTO:-0600
TZNAME:CST
DTSTART:20271107T070000
END:STANDARD
END:VTIMEZONE
BEGIN:VEVENT
DTSTART;TZID=America/Chicago:20260410T190000
DTEND;TZID=America/Chicago:20260410T190000
DTSTAMP:20260423T235737
CREATED:20260403T031908Z
LAST-MODIFIED:20260403T031908Z
UID:10000014-1775847600-1775847600@montgomeryup.com
SUMMARY:Faulkner University- Jamboree 2026- Friday Night Show
DESCRIPTION:Jamboree 2026- Once Upon a Mashup \n\n\n\n\n\nCheck-in will be available at all entrances of the Rotunda auditorium.\nDoors open at 6:30 with the show beginning at 7pm.\nPlease have your printed or electronic ticket for check-in.\nTickets are non-refundable\nChildren under the age of 3 do not need a ticket.
URL:https://montgomeryup.com/event/faulkner-university-jamboree-2026-friday-night-show/
LOCATION:AL
END:VEVENT
END:VCALENDAR